BEGIN:VCALENDAR
VERSION:2.0
PRODID:-//appserver-2f0aa929-nginx-70ea4e93a1ea4a39beb5817a2ecadd04//NONSGM
 L kigkonsult.se iCalcreator 2.26.9//
CALSCALE:GREGORIAN
METHOD:PUBLISH
X-FROM-URL:https://1882.cupe.ca
X-WR-TIMEZONE:America/Toronto
BEGIN:VTIMEZONE
TZID:America/Toronto
X-LIC-LOCATION:America/Toronto
BEGIN:STANDARD
DTSTART:20251102T020000
TZOFFSETFROM:-0400
TZOFFSETTO:-0500
RDATE:20261101T020000
TZNAME:EST
END:STANDARD
BEGIN:DAYLIGHT
DTSTART:20260308T020000
TZOFFSETFROM:-0500
TZOFFSETTO:-0400
RDATE:20270314T020000
TZNAME:EDT
END:DAYLIGHT
END:VTIMEZONE
BEGIN:VEVENT
UID:ai1ec-1366@1882.cupe.ca
DTSTAMP:20260421T043040Z
CATEGORIES:
CONTACT:
DTSTART;TZID=America/Toronto:20250408T163000
DTEND;TZID=America/Toronto:20250408T174500
LOCATION:Virtual - by invitation\; for 1882 members only
SUMMARY:General Membership Meeting CUPE Local 1882
URL:https://1882.cupe.ca/event/general-membership-meeting-cupe-local-1882/
X-COST-TYPE:free
END:VEVENT
BEGIN:VEVENT
UID:ai1ec-1367@1882.cupe.ca
DTSTAMP:20260421T043040Z
CATEGORIES:
CONTACT:
DTSTART;TZID=America/Toronto:20250513T163000
DTEND;TZID=America/Toronto:20250513T174500
LOCATION:Virtual - by invitation\; for 1882 members only
SUMMARY:General Membership Meeting CUPE Local 1882
URL:https://1882.cupe.ca/event/general-membership-meeting-cupe-local-1882-2
 /
X-COST-TYPE:free
END:VEVENT
BEGIN:VEVENT
UID:ai1ec-1368@1882.cupe.ca
DTSTAMP:20260421T043040Z
CATEGORIES:
CONTACT:
DTSTART;TZID=America/Toronto:20250610T163000
DTEND;TZID=America/Toronto:20250610T174500
LOCATION:Virtual - by invitation\; for 1882 members only
SUMMARY:General Membership Meeting CUPE Local 1882
URL:https://1882.cupe.ca/event/general-membership-meeting-cupe-local-1882-3
 /
X-COST-TYPE:free
END:VEVENT
END:VCALENDAR
